BEGIN:VCALENDAR
VERSION:2.0
PRODID:demoseries.pantheonsorbonne.fr
X-WR-TIMEZONE:Europe/Paris
BEGIN:VTIMEZONE
TZID:Europe/Paris
X-LIC-LOCATION:Europe/Paris
BEGIN:DAYLIGHT
TZNAME:CEST
TZOFFSETFROM:+0100
TZOFFSETTO:+0200
DTSTART:20260329T010000
END:DAYLIGHT
BEGIN:DAYLIGHT
TZNAME:CEST
TZOFFSETFROM:+0100
TZOFFSETTO:+0200
DTSTART:20270328T010000
END:DAYLIGHT
BEGIN:STANDARD
TZNAME:CET
TZOFFSETFROM:+0200
TZOFFSETTO:+0100
DTSTART:20251026T010000
END:STANDARD
BEGIN:STANDARD
TZNAME:CET
TZOFFSETFROM:+0200
TZOFFSETTO:+0100
DTSTART:20261025T010000
END:STANDARD
END:VTIMEZONE
BEGIN:VEVENT
UID:455eb944e56db1b5ff0704c9b12d1d03
DTSTART;TZID=Europe/Paris:20260427T090000
SEQUENCE:0
TRANSP:OPAQUE
URL:https://demoseries.pantheonsorbonne.fr/evenements
SUMMARY:Varieties of realism: aesthetics\, politics\, and philosophy
CLASS:PUBLIC
DESCRIPTION:16 Washington Mews\, New York United States
X-ALT-DESC;FMTTYPE=text/html:16 Washington Mews\, New York United States\n\
 n
DTSTAMP:20260414T105139Z
END:VEVENT
END:VCALENDAR