BEGIN:VCALENDAR
VERSION:2.0
PRODID:demoseries.pantheonsorbonne.fr
X-WR-TIMEZONE:Europe/Paris
BEGIN:VTIMEZONE
TZID:Europe/Paris
X-LIC-LOCATION:Europe/Paris
BEGIN:DAYLIGHT
TZNAME:CEST
TZOFFSETFROM:+0100
TZOFFSETTO:+0200
DTSTART:20260329T010000
END:DAYLIGHT
BEGIN:DAYLIGHT
TZNAME:CEST
TZOFFSETFROM:+0100
TZOFFSETTO:+0200
DTSTART:20270328T010000
END:DAYLIGHT
BEGIN:STANDARD
TZNAME:CET
TZOFFSETFROM:+0200
TZOFFSETTO:+0100
DTSTART:20251026T010000
END:STANDARD
BEGIN:STANDARD
TZNAME:CET
TZOFFSETFROM:+0200
TZOFFSETTO:+0100
DTSTART:20261025T010000
END:STANDARD
END:VTIMEZONE
BEGIN:VEVENT
UID:b853bd1d19f8a2b536f8bf7076444b99
DTSTART;TZID=Europe/Paris:20260408T090000
SEQUENCE:0
TRANSP:OPAQUE
URL:https://demoseries.pantheonsorbonne.fr/evenements
SUMMARY:L&#039\;intelligence et l&#039\;éthique de la télévision à l&#0
 39\;ère des algorithmes/The intelligence and ethics of television at the 
 age of algorithms
CLASS:PUBLIC
DESCRIPTION:Université Paris 1 Panthéon-Sorbonne\, centre Panthéon\, 12 
 place du\nPanthéon\, 75005 Paris\, Salles 6 et 216
X-ALT-DESC;FMTTYPE=text/html:Université Paris 1 Panthéon-Sorbonne\, centr
 e Panthéon\, 12 place du Panthéon\, 75005 Paris\, Salles 6 et 216\n\n
DTSTAMP:20260414T104204Z
END:VEVENT
END:VCALENDAR